BEGIN:VCALENDAR
VERSION:2.0
PRODID:-//RMCS - ECPv6.15.20//NONSGML v1.0//EN
CALSCALE:GREGORIAN
METHOD:PUBLISH
X-WR-CALNAME:RMCS
X-ORIGINAL-URL:https://rmcs.club
X-WR-CALDESC:Évènements pour RMCS
REFRESH-INTERVAL;VALUE=DURATION:PT1H
X-Robots-Tag:noindex
X-PUBLISHED-TTL:PT1H
BEGIN:VTIMEZONE
TZID:Europe/Zurich
BEGIN:DAYLIGHT
TZOFFSETFROM:+0100
TZOFFSETTO:+0200
TZNAME:CEST
DTSTART:20250330T010000
END:DAYLIGHT
BEGIN:STANDARD
TZOFFSETFROM:+0200
TZOFFSETTO:+0100
TZNAME:CET
DTSTART:20251026T010000
END:STANDARD
BEGIN:DAYLIGHT
TZOFFSETFROM:+0100
TZOFFSETTO:+0200
TZNAME:CEST
DTSTART:20260329T010000
END:DAYLIGHT
BEGIN:STANDARD
TZOFFSETFROM:+0200
TZOFFSETTO:+0100
TZNAME:CET
DTSTART:20261025T010000
END:STANDARD
BEGIN:DAYLIGHT
TZOFFSETFROM:+0100
TZOFFSETTO:+0200
TZNAME:CEST
DTSTART:20270328T010000
END:DAYLIGHT
BEGIN:STANDARD
TZOFFSETFROM:+0200
TZOFFSETTO:+0100
TZNAME:CET
DTSTART:20271031T010000
END:STANDARD
END:VTIMEZONE
BEGIN:VEVENT
DTSTART;VALUE=DATE:20260801
DTEND;VALUE=DATE:20260802
DTSTAMP:20260422T220649
CREATED:20251214T185935Z
LAST-MODIFIED:20251214T190049Z
UID:155056-1785542400-1785628799@rmcs.club
SUMMARY:1er août RMCS
DESCRIPTION:[vc_row row_height_percent= »0″ override_padding= »yes » h_padding= »0″ top_padding= »0″ bottom_padding= »2″ overlay_alpha= »50″ gutter_size= »3″ column_width_percent= »100″ shift_y= »0″ z_index= »0″ content_parallax= »0″ uncode_shortcode_id= »199997″][vc_column column_width_percent= »100″ gutter_size= »3″ override_padding= »yes » column_padding= »0″ overlay_alpha= »50″ shift_x= »0″ shift_y= »0″ shift_y_down= »0″ z_index= »0″ medium_width= »0″ mobile_width= »0″ width= »2/3″ uncode_shortcode_id= »202522″][vc_column_text uncode_shortcode_id= »921213″]Restez connectés\, les détails arrivent très bientôt ![/vc_column_text][/vc_column][vc_column column_width_percent= »100″ gutter_size= »2″ back_color= »color-lxmt » overlay_alpha= »50″ shift_x= »0″ shift_y= »0″ shift_y_down= »0″ z_index= »0″ medium_width= »0″ mobile_width= »0″ width= »1/3″ uncode_shortcode_id= »449565″ back_color_type= »uncode-palette »][vc_custom_heading heading_semantic= »h4″ text_size= »h4″ uncode_shortcode_id= »803232″]Lieux[/vc_custom_heading][vc_column_text uncode_shortcode_id= »629069″]1026 Echandens\nPlace du Saugey \nVoir sur Google Maps[/vc_column_text][/vc_column][/vc_row]
URL:https://rmcs.club/events/1er-aout-rmcs/
ATTACH;FMTTYPE=image/jpeg:https://rmcs.club/wp-content/uploads/2025/02/vignette_rmcs.jpg
END:VEVENT
BEGIN:VEVENT
DTSTART;TZID=Europe/Zurich:20260813T180000
DTEND;TZID=Europe/Zurich:20260813T230000
DTSTAMP:20260422T220649
CREATED:20250317T120119Z
LAST-MODIFIED:20251214T190315Z
UID:154575-1786644000-1786662000@rmcs.club
SUMMARY:Fondue Saletta
DESCRIPTION:[vc_row row_height_percent= »0″ override_padding= »yes » h_padding= »0″ top_padding= »0″ bottom_padding= »2″ overlay_alpha= »50″ gutter_size= »3″ column_width_percent= »100″ shift_y= »0″ z_index= »0″ content_parallax= »0″ uncode_shortcode_id= »199997″][vc_column column_width_percent= »100″ gutter_size= »3″ override_padding= »yes » column_padding= »0″ overlay_alpha= »50″ shift_x= »0″ shift_y= »0″ shift_y_down= »0″ z_index= »0″ medium_width= »0″ mobile_width= »0″ width= »2/3″ uncode_shortcode_id= »202522″][vc_column_text uncode_shortcode_id= »930672″]Restez connectés\, les détails arrivent très bientôt ![/vc_column_text][/vc_column][vc_column column_width_percent= »100″ gutter_size= »2″ back_color= »color-lxmt » overlay_alpha= »50″ shift_x= »0″ shift_y= »0″ shift_y_down= »0″ z_index= »0″ medium_width= »0″ mobile_width= »0″ width= »1/3″ uncode_shortcode_id= »449565″ back_color_type= »uncode-palette »][vc_custom_heading heading_semantic= »h4″ text_size= »h4″ uncode_shortcode_id= »803232″]Lieux[/vc_custom_heading][vc_column_text uncode_shortcode_id= »167085″]La Saletta\nRte de la Dent de Lys 111\n1619 Les Paccots\nVoir sur Google Maps[/vc_column_text][/vc_column][/vc_row]
URL:https://rmcs.club/events/fondue-saletta/
ATTACH;FMTTYPE=image/jpeg:https://rmcs.club/wp-content/uploads/2025/03/fondue_rmcs.jpg
END:VEVENT
END:VCALENDAR